BEGIN:VCALENDAR
VERSION:2.0
PRODID:-//Paroisse de Talence - ECPv6.15.20//NONSGML v1.0//EN
CALSCALE:GREGORIAN
METHOD:PUBLISH
X-ORIGINAL-URL:https://paroisse-talence.fr
X-WR-CALDESC:Évènements pour Paroisse de Talence
REFRESH-INTERVAL;VALUE=DURATION:PT1H
X-Robots-Tag:noindex
X-PUBLISHED-TTL:PT1H
BEGIN:VTIMEZONE
TZID:Europe/Paris
BEGIN:DAYLIGHT
TZOFFSETFROM:+0100
TZOFFSETTO:+0200
TZNAME:CEST
DTSTART:20240331T010000
END:DAYLIGHT
BEGIN:STANDARD
TZOFFSETFROM:+0200
TZOFFSETTO:+0100
TZNAME:CET
DTSTART:20241027T010000
END:STANDARD
BEGIN:DAYLIGHT
TZOFFSETFROM:+0100
TZOFFSETTO:+0200
TZNAME:CEST
DTSTART:20250330T010000
END:DAYLIGHT
BEGIN:STANDARD
TZOFFSETFROM:+0200
TZOFFSETTO:+0100
TZNAME:CET
DTSTART:20251026T010000
END:STANDARD
BEGIN:DAYLIGHT
TZOFFSETFROM:+0100
TZOFFSETTO:+0200
TZNAME:CEST
DTSTART:20260329T010000
END:DAYLIGHT
BEGIN:STANDARD
TZOFFSETFROM:+0200
TZOFFSETTO:+0100
TZNAME:CET
DTSTART:20261025T010000
END:STANDARD
END:VTIMEZONE
BEGIN:VEVENT
DTSTART;TZID=Europe/Paris:20251102T103000
DTEND;TZID=Europe/Paris:20251102T113000
DTSTAMP:20260419T143855
CREATED:20251010T073738Z
LAST-MODIFIED:20251010T073738Z
UID:10002726-1762079400-1762083000@paroisse-talence.fr
SUMMARY:Messe pour les défunts
DESCRIPTION:Samedi 1er novembre : 18h Notre-Dame \nDimanche 2 novembre : 10h30 Sainte-Famille et 11h et 19h Notre-Dame
URL:https://paroisse-talence.fr/evenement/messe-pour-les-defunts-3/
LOCATION:Chapelle de la Sainte Famille\, 10 rue Charles Gounod\, Talence\, 33400\, France
CATEGORIES:Toussaint
ORGANIZER;CN="Paroisse de Talence":MAILTO:accueil@paroisse-talence.fr
GEO:44.7973588;-0.5912221
X-APPLE-STRUCTURED-LOCATION;VALUE=URI;X-ADDRESS=Chapelle de la Sainte Famille 10 rue Charles Gounod Talence 33400 France;X-APPLE-RADIUS=500;X-TITLE=10 rue Charles Gounod:geo:-0.5912221,44.7973588
END:VEVENT
BEGIN:VEVENT
DTSTART;TZID=Europe/Paris:20251102T110000
DTEND;TZID=Europe/Paris:20251102T120000
DTSTAMP:20260419T143855
CREATED:20251010T073559Z
LAST-MODIFIED:20251010T073559Z
UID:10002725-1762081200-1762084800@paroisse-talence.fr
SUMMARY:Messe pour les défunts
DESCRIPTION:Samedi 1er novembre : 18h Notre-Dame \nDimanche 2 novembre : 10h30 Sainte-Famille et 11h et 19h Notre-Dame
URL:https://paroisse-talence.fr/evenement/messe-pour-les-defunts-2/2025-11-02/
LOCATION:Église Notre Dame\, place de l'église\, Talence\, 33400\, France
CATEGORIES:Toussaint
ORGANIZER;CN="Paroisse de Talence":MAILTO:accueil@paroisse-talence.fr
GEO:44.8126527;-0.5916433
X-APPLE-STRUCTURED-LOCATION;VALUE=URI;X-ADDRESS=Église Notre Dame place de l'église Talence 33400 France;X-APPLE-RADIUS=500;X-TITLE=place de l'église:geo:-0.5916433,44.8126527
END:VEVENT
END:VCALENDAR